BEGIN:VCALENDAR
VERSION:2.0
PRODID:-//eventon.com NONSGML v1.0//EN
CALSCALE:GREGORIAN
METHOD:PUBLISH
BEGIN:VEVENT
UID:69e4f15c592d7
DTSTAMP:20260419T151436Z
DTSTART:20260605T040000Z
DTEND:20260605T090000Z
LOCATION:Club Rouge Portland 403 SW Harvey Milk St
SUMMARY:Miss Nude Oregon
DESCRIPTION:MISS NUDE OREGON 2026 $5\, 000 In Cash and Prizes Open to all p
 articipants 18+ Thursday\,  July 11th\,  9pm ENTER TO COMPETE HERE\nhttps:/
 /clubrougeportland.com/events/miss-nude-oregon/
URL:https://clubrougeportland.com/events/miss-nude-oregon/
END:VEVENT
END:VCALENDAR