BEGIN:VCALENDAR
VERSION:2.0
PRODID:-//eventon.com NONSGML v1.0//EN
CALSCALE:GREGORIAN
METHOD:PUBLISH
BEGIN:VEVENT
UID:69eccd701826f
DTSTAMP:20260425T141928Z
DTSTART:20241101T040000Z
DTEND:20241101T090000Z
LOCATION:
SUMMARY:Heroes vs Villains!
DESCRIPTION:Thursday Oct 31st. Costume Contest\nhttps://clubrougeportland.c
 om/events/heroes-vs-villains/
URL:https://clubrougeportland.com/events/heroes-vs-villains/
END:VEVENT
END:VCALENDAR