BEGIN:VCALENDAR
VERSION:2.0
PRODID:-//eventon.com NONSGML v1.0//EN
CALSCALE:GREGORIAN
METHOD:PUBLISH
BEGIN:VEVENT
UID:69e51f213e534
DTSTAMP:20260419T182953Z
DTSTART:20250725
DTEND:20250726
LOCATION:
SUMMARY:Now Auditioning
DESCRIPTION:Now Auditioning\nhttps://clubrougeportland.com/events/now-audit
 ioning/var/ri-521.l-L1
URL:https://clubrougeportland.com/events/now-auditioning/var/ri-521.l-L1
END:VEVENT
END:VCALENDAR