BEGIN:VCALENDAR
VERSION:2.0
PRODID:-//eventon.com NONSGML v1.0//EN
CALSCALE:GREGORIAN
METHOD:PUBLISH
BEGIN:VEVENT
UID:69e8a00f7e807
DTSTAMP:20260422T101647Z
DTSTART:20250714
DTEND:20250715
LOCATION:
SUMMARY:Now Auditioning
DESCRIPTION:Now Auditioning\nhttps://clubrougeportland.com/events/now-audit
 ioning/var/ri-510.l-L1
URL:https://clubrougeportland.com/events/now-auditioning/var/ri-510.l-L1
END:VEVENT
END:VCALENDAR