BEGIN:VCALENDAR
VERSION:2.0
PRODID:-//eventon.com NONSGML v1.0//EN
CALSCALE:GREGORIAN
METHOD:PUBLISH
BEGIN:VEVENT
UID:69e602cd9ad52
DTSTAMP:20260420T104117Z
DTSTART:20250705
DTEND:20250706
LOCATION:
SUMMARY:Now Auditioning
DESCRIPTION:Now Auditioning\nhttps://clubrougeportland.com/events/now-audit
 ioning/var/ri-501.l-L1
URL:https://clubrougeportland.com/events/now-auditioning/var/ri-501.l-L1
END:VEVENT
END:VCALENDAR