BEGIN:VCALENDAR
VERSION:2.0
PRODID:-//eventon.com NONSGML v1.0//EN
CALSCALE:GREGORIAN
METHOD:PUBLISH
BEGIN:VEVENT
UID:69e9dbf6523d3
DTSTAMP:20260423T084438Z
DTSTART:20250625
DTEND:20250626
LOCATION:
SUMMARY:Now Auditioning
DESCRIPTION:Now Auditioning\nhttps://clubrougeportland.com/events/now-audit
 ioning/var/ri-491.l-L1
URL:https://clubrougeportland.com/events/now-auditioning/var/ri-491.l-L1
END:VEVENT
END:VCALENDAR