BEGIN:VCALENDAR
VERSION:2.0
PRODID:-//eventon.com NONSGML v1.0//EN
CALSCALE:GREGORIAN
METHOD:PUBLISH
BEGIN:VEVENT
UID:69eaf10ac5db1
DTSTAMP:20260424T042650Z
DTSTART:20250417
DTEND:20250418
LOCATION:
SUMMARY:Now Auditioning
DESCRIPTION:Now Auditioning\nhttps://clubrougeportland.com/events/now-audit
 ioning/var/ri-422.l-L1
URL:https://clubrougeportland.com/events/now-auditioning/var/ri-422.l-L1
END:VEVENT
END:VCALENDAR