BEGIN:VCALENDAR
VERSION:2.0
PRODID:-//eventon.com NONSGML v1.0//EN
CALSCALE:GREGORIAN
METHOD:PUBLISH
BEGIN:VEVENT
UID:69ea03b05067d
DTSTAMP:20260423T113408Z
DTSTART:20250414
DTEND:20250415
LOCATION:
SUMMARY:Now Auditioning
DESCRIPTION:Now Auditioning\nhttps://clubrougeportland.com/events/now-audit
 ioning/var/ri-419.l-L1
URL:https://clubrougeportland.com/events/now-auditioning/var/ri-419.l-L1
END:VEVENT
END:VCALENDAR