BEGIN:VCALENDAR
VERSION:2.0
PRODID:-//eventon.com NONSGML v1.0//EN
CALSCALE:GREGORIAN
METHOD:PUBLISH
BEGIN:VEVENT
UID:69e614896d056
DTSTAMP:20260420T115657Z
DTSTART:20240220
DTEND:20240221
LOCATION:
SUMMARY:Now Auditioning
DESCRIPTION:Now Auditioning\nhttps://clubrougeportland.com/events/now-audit
 ioning/
URL:https://clubrougeportland.com/events/now-auditioning/
END:VEVENT
END:VCALENDAR