BEGIN:VCALENDAR
VERSION:2.0
PRODID:-//eventon.com NONSGML v1.0//EN
CALSCALE:GREGORIAN
METHOD:PUBLISH
BEGIN:VEVENT
UID:69e5eb7d853f5
DTSTAMP:20260420T090149Z
DTSTART:20240213
DTEND:20240214
LOCATION:Portland 403 SW Harvey Milk St
SUMMARY:Fat Tuesday
DESCRIPTION:Mardi Gras 2024\nhttps://clubrougeportland.com/events/fat-tuesd
 ay-2/
URL:https://clubrougeportland.com/events/fat-tuesday-2/
END:VEVENT
END:VCALENDAR