BEGIN:VCALENDAR
VERSION:2.0
PRODID:-//eventon.com NONSGML v1.0//EN
CALSCALE:GREGORIAN
METHOD:PUBLISH
BEGIN:VEVENT
UID:69ecaa2509160
DTSTAMP:20260425T114853Z
DTSTART:20231105
DTEND:20231106
LOCATION:
SUMMARY:Sin Sundays $4 Absolut
DESCRIPTION:Sin Sundays $4 Absolut\nhttps://clubrougeportland.com/events/si
 n-sundays/
URL:https://clubrougeportland.com/events/sin-sundays/
END:VEVENT
END:VCALENDAR